BEGIN:VCALENDAR
VERSION:2.0
PRODID:-//Le Stromboli - ECPv6.3.1//NONSGML v1.0//EN
CALSCALE:GREGORIAN
METHOD:PUBLISH
X-ORIGINAL-URL:https://complexe-stromboli.com
X-WR-CALDESC:évènements pour Le Stromboli
REFRESH-INTERVAL;VALUE=DURATION:PT1H
X-Robots-Tag:noindex
X-PUBLISHED-TTL:PT1H
BEGIN:VTIMEZONE
TZID:UTC
BEGIN:STANDARD
TZOFFSETFROM:+0000
TZOFFSETTO:+0000
TZNAME:UTC
DTSTART:20220101T000000
END:STANDARD
END:VTIMEZONE
BEGIN:VEVENT
DTSTART;TZID=UTC:20220618T223000
DTEND;TZID=UTC:20220618T223000
DTSTAMP:20260423T071020
CREATED:20220519T160510Z
LAST-MODIFIED:20220720T165759Z
UID:2224-1655591400-1655591400@complexe-stromboli.com
SUMMARY:SUMMER NIGHT ! 90's / 2000
DESCRIPTION:Venez fêter l’été au Stromboli ! Pour sa seconde soirée\, le club vous propose une soirée estivale autour d’une ambiance des plus chaudes avec la présence de gogo dancers\, le tout sur le rythme musical des années 90 à aujourd’hui !
URL:https://complexe-stromboli.com/mon-evenement/summer-night-90s-2000/
LOCATION:chabris\, Le Port\, PARPEÇAY\, 36210\, France
CATEGORIES:Soirées à thème
ATTACH;FMTTYPE=image/jpeg:https://complexe-stromboli.com/stromboli/wp-content/uploads/2022/05/180622_stromboli_annees90_OK_fini.jpg
END:VEVENT
END:VCALENDAR