BEGIN:VCALENDAR
VERSION:2.0
PRODID:-//Le Stromboli - ECPv6.3.1//NONSGML v1.0//EN
CALSCALE:GREGORIAN
METHOD:PUBLISH
X-WR-CALNAME:Le Stromboli
X-ORIGINAL-URL:https://complexe-stromboli.com
X-WR-CALDESC:évènements pour Le Stromboli
REFRESH-INTERVAL;VALUE=DURATION:PT1H
X-Robots-Tag:noindex
X-PUBLISHED-TTL:PT1H
BEGIN:VTIMEZONE
TZID:Europe/Paris
BEGIN:DAYLIGHT
TZOFFSETFROM:+0100
TZOFFSETTO:+0200
TZNAME:CEST
DTSTART:20230326T010000
END:DAYLIGHT
BEGIN:STANDARD
TZOFFSETFROM:+0200
TZOFFSETTO:+0100
TZNAME:CET
DTSTART:20231029T010000
END:STANDARD
END:VTIMEZONE
BEGIN:VEVENT
DTSTART;TZID=Europe/Paris:20230708T230000
DTEND;TZID=Europe/Paris:20230709T050000
DTSTAMP:20260422T110747
CREATED:20230630T063333Z
LAST-MODIFIED:20230630T063420Z
UID:5576-1688857200-1688878800@complexe-stromboli.com
SUMMARY:LA NUIT DU BAC by Stromboli
DESCRIPTION:
URL:https://complexe-stromboli.com/mon-evenement/la-nuit-du-bac-by-stromboli/
LOCATION:chabris\, Le Port\, PARPEÇAY\, 36210\, France
CATEGORIES:Soirées à thème
ATTACH;FMTTYPE=image/jpeg:https://complexe-stromboli.com/stromboli/wp-content/uploads/2023/05/affiche-NUIT-DU-BAC-_page-0001.jpg
END:VEVENT
END:VCALENDAR