BEGIN:VCALENDAR
VERSION:2.0
PRODID:-//Le Stromboli - ECPv6.3.1//NONSGML v1.0//EN
CALSCALE:GREGORIAN
METHOD:PUBLISH
X-WR-CALNAME:Le Stromboli
X-ORIGINAL-URL:https://complexe-stromboli.com
X-WR-CALDESC:évènements pour Le Stromboli
REFRESH-INTERVAL;VALUE=DURATION:PT1H
X-Robots-Tag:noindex
X-PUBLISHED-TTL:PT1H
BEGIN:VTIMEZONE
TZID:Europe/Paris
BEGIN:DAYLIGHT
TZOFFSETFROM:+0100
TZOFFSETTO:+0200
TZNAME:CEST
DTSTART:20230326T010000
END:DAYLIGHT
BEGIN:STANDARD
TZOFFSETFROM:+0200
TZOFFSETTO:+0100
TZNAME:CET
DTSTART:20231029T010000
END:STANDARD
END:VTIMEZONE
BEGIN:VEVENT
DTSTART;TZID=Europe/Paris:20231031T180000
DTEND;TZID=Europe/Paris:20231101T010000
DTSTAMP:20260422T043927
CREATED:20231029T172551Z
LAST-MODIFIED:20231029T172551Z
UID:5585-1698775200-1698800400@complexe-stromboli.com
SUMMARY:soirée HALLOWEEN Kid's
DESCRIPTION:
URL:https://complexe-stromboli.com/mon-evenement/soiree-halloween-kids/
LOCATION:le Stromboli\, LE PORT\, VAL FOUZON\, 36210\, France
CATEGORIES:Soirées à thème
ATTACH;FMTTYPE=image/jpeg:https://complexe-stromboli.com/stromboli/wp-content/uploads/2023/10/kids-pour-publi-insta-.jpg
END:VEVENT
BEGIN:VEVENT
DTSTART;TZID=Europe/Paris:20231111T230000
DTEND;TZID=Europe/Paris:20231112T050000
DTSTAMP:20260422T043927
CREATED:20231029T174515Z
LAST-MODIFIED:20231029T174515Z
UID:5590-1699743600-1699765200@complexe-stromboli.com
SUMMARY:soirée Années 80's remember
DESCRIPTION:
URL:https://complexe-stromboli.com/mon-evenement/soiree-annees-80s-remember/
LOCATION:le Stromboli\, LE PORT\, VAL FOUZON\, 36210\, France
CATEGORIES:Soirées à thème
ATTACH;FMTTYPE=image/jpeg:https://complexe-stromboli.com/stromboli/wp-content/uploads/2023/10/annees-8-novembre-2023.jpg
END:VEVENT
END:VCALENDAR