BEGIN:VCALENDAR
VERSION:2.0
PRODID:-//Le Stromboli - ECPv6.3.1//NONSGML v1.0//EN
CALSCALE:GREGORIAN
METHOD:PUBLISH
X-ORIGINAL-URL:https://complexe-stromboli.com
X-WR-CALDESC:évènements pour Le Stromboli
REFRESH-INTERVAL;VALUE=DURATION:PT1H
X-Robots-Tag:noindex
X-PUBLISHED-TTL:PT1H
BEGIN:VTIMEZONE
TZID:UTC
BEGIN:STANDARD
TZOFFSETFROM:+0000
TZOFFSETTO:+0000
TZNAME:UTC
DTSTART:20220101T000000
END:STANDARD
END:VTIMEZONE
BEGIN:VEVENT
DTSTART;TZID=UTC:20221112T223000
DTEND;TZID=UTC:20221112T223000
DTSTAMP:20260423T011936
CREATED:20220607T204135Z
LAST-MODIFIED:20221117T200003Z
UID:2471-1668292200-1668292200@complexe-stromboli.com
SUMMARY:Back to Années 80's
DESCRIPTION:Et si on remettait ça ? Après le succès considérable de la soirée du 14 mai dernier\, l’équipe du Stromboli vous propose de vous retrouver à nouveau le temps d’une soirée sur le son des années 80 et animé par notre DJ Jacky Bernardet. Alors n’hésitez plus\, ce soir\, au Stromboli\, évènement ! C’est soirée disco ! Alors entraine tes amis\, jusqu’au bout de la nuit ; Ça fait quelque chose de magique\, y a rien à faire qu’à rêver\, Prend-moi la main\, viens danser !
URL:https://complexe-stromboli.com/mon-evenement/fans-des-annees-80/
LOCATION:chabris\, Le Port\, PARPEÇAY\, 36210\, France
CATEGORIES:Soirées à thème
ATTACH;FMTTYPE=image/jpeg:https://complexe-stromboli.com/stromboli/wp-content/uploads/2022/06/12112022_stromboli_annees80_2_terminee.jpg
END:VEVENT
END:VCALENDAR