BEGIN:VCALENDAR
VERSION:2.0
PRODID:-//Le Stromboli - ECPv6.3.1//NONSGML v1.0//EN
CALSCALE:GREGORIAN
METHOD:PUBLISH
X-WR-CALNAME:Le Stromboli
X-ORIGINAL-URL:https://complexe-stromboli.com
X-WR-CALDESC:évènements pour Le Stromboli
REFRESH-INTERVAL;VALUE=DURATION:PT1H
X-Robots-Tag:noindex
X-PUBLISHED-TTL:PT1H
BEGIN:VTIMEZONE
TZID:Europe/Paris
BEGIN:DAYLIGHT
TZOFFSETFROM:+0100
TZOFFSETTO:+0200
TZNAME:CEST
DTSTART:20240331T010000
END:DAYLIGHT
BEGIN:STANDARD
TZOFFSETFROM:+0200
TZOFFSETTO:+0100
TZNAME:CET
DTSTART:20241027T010000
END:STANDARD
END:VTIMEZONE
BEGIN:VEVENT
DTSTART;TZID=Europe/Paris:20240120T230000
DTEND;TZID=Europe/Paris:20240121T230000
DTSTAMP:20260422T030214
CREATED:20240115T205150Z
LAST-MODIFIED:20240129T161338Z
UID:5614-1705791600-1705878000@complexe-stromboli.com
SUMMARY:soirée C'était COOL avant 90' - 2000
DESCRIPTION:
URL:https://complexe-stromboli.com/mon-evenement/soiree-cetait-cool-avant-90-2000/
CATEGORIES:Soirées à thème
ATTACH;FMTTYPE=image/jpeg:https://complexe-stromboli.com/stromboli/wp-content/uploads/2024/01/AFICHE-C-ETAIT-COOL-AVANT-90-2000-FORMAT-INSTA-.jpg
END:VEVENT
END:VCALENDAR