BEGIN:VCALENDAR
VERSION:2.0
PRODID:-//Le Stromboli - ECPv6.3.1//NONSGML v1.0//EN
CALSCALE:GREGORIAN
METHOD:PUBLISH
X-ORIGINAL-URL:https://complexe-stromboli.com
X-WR-CALDESC:évènements pour Le Stromboli
REFRESH-INTERVAL;VALUE=DURATION:PT1H
X-Robots-Tag:noindex
X-PUBLISHED-TTL:PT1H
BEGIN:VTIMEZONE
TZID:Europe/Paris
BEGIN:DAYLIGHT
TZOFFSETFROM:+0100
TZOFFSETTO:+0200
TZNAME:CEST
DTSTART:20240331T010000
END:DAYLIGHT
BEGIN:STANDARD
TZOFFSETFROM:+0200
TZOFFSETTO:+0100
TZNAME:CET
DTSTART:20241027T010000
END:STANDARD
END:VTIMEZONE
BEGIN:VEVENT
DTSTART;TZID=Europe/Paris:20240907T230000
DTEND;TZID=Europe/Paris:20240908T050000
DTSTAMP:20260421T140503
CREATED:20240829T052402Z
LAST-MODIFIED:20240829T052402Z
UID:5647-1725750000-1725771600@complexe-stromboli.com
SUMMARY:Soirée années 80's remember ( Act 3 )
DESCRIPTION:
URL:https://complexe-stromboli.com/mon-evenement/soiree-annees-80s-remember-act-3/
LOCATION:le Stromboli\, LE PORT\, VAL FOUZON\, 36210\, France
CATEGORIES:Soirées à thème
ATTACH;FMTTYPE=image/jpeg:https://complexe-stromboli.com/stromboli/wp-content/uploads/2024/08/Copie-de-Copie-de-affiche-insta-annees-80-remember-.jpg
END:VEVENT
END:VCALENDAR