BEGIN:VCALENDAR
VERSION:2.0
PRODID:-//Le Stromboli - ECPv6.3.1//NONSGML v1.0//EN
CALSCALE:GREGORIAN
METHOD:PUBLISH
X-WR-CALNAME:Le Stromboli
X-ORIGINAL-URL:https://complexe-stromboli.com
X-WR-CALDESC:évènements pour Le Stromboli
REFRESH-INTERVAL;VALUE=DURATION:PT1H
X-Robots-Tag:noindex
X-PUBLISHED-TTL:PT1H
BEGIN:VTIMEZONE
TZID:UTC
BEGIN:STANDARD
TZOFFSETFROM:+0000
TZOFFSETTO:+0000
TZNAME:UTC
DTSTART:20220101T000000
END:STANDARD
END:VTIMEZONE
BEGIN:VEVENT
DTSTART;TZID=UTC:20220910T230000
DTEND;TZID=UTC:20220910T230000
DTSTAMP:20260423T090822
CREATED:20220720T165328Z
LAST-MODIFIED:20220913T163556Z
UID:2710-1662850800-1662850800@complexe-stromboli.com
SUMMARY:THE AMERICAN PROJECT // 10.09.22
DESCRIPTION:Vivez une soirée purement américaine au Stromboli ! Le 10 septembre : dépaysement total\, un fait la fête ! Au programme\, Cracheur de feu\, nain festif\, château gonflable\, canon C02\, robot led dancer… et plein de goodies et surprises pour une soirée inoubliables !
URL:https://complexe-stromboli.com/mon-evenement/the-american-project-10-09-22/
LOCATION:chabris\, Le Port\, PARPEÇAY\, 36210\, France
CATEGORIES:Soirées à thème
ATTACH;FMTTYPE=image/jpeg:https://complexe-stromboli.com/stromboli/wp-content/uploads/2022/07/10092022_stromboli_american_OK_BD_termine-scaled.jpg
END:VEVENT
END:VCALENDAR