BEGIN:VCALENDAR
VERSION:2.0
PRODID:-//Le Stromboli - ECPv6.3.1//NONSGML v1.0//EN
CALSCALE:GREGORIAN
METHOD:PUBLISH
X-WR-CALNAME:Le Stromboli
X-ORIGINAL-URL:https://complexe-stromboli.com
X-WR-CALDESC:évènements pour Le Stromboli
REFRESH-INTERVAL;VALUE=DURATION:PT1H
X-Robots-Tag:noindex
X-PUBLISHED-TTL:PT1H
BEGIN:VTIMEZONE
TZID:Europe/Paris
BEGIN:DAYLIGHT
TZOFFSETFROM:+0100
TZOFFSETTO:+0200
TZNAME:CEST
DTSTART:20230326T010000
END:DAYLIGHT
BEGIN:STANDARD
TZOFFSETFROM:+0200
TZOFFSETTO:+0100
TZNAME:CET
DTSTART:20231029T010000
END:STANDARD
END:VTIMEZONE
BEGIN:VEVENT
DTSTART;TZID=Europe/Paris:20230211T183000
DTEND;TZID=Europe/Paris:20230211T220000
DTSTAMP:20260422T154307
CREATED:20230110T104820Z
LAST-MODIFIED:20230211T091711Z
UID:4314-1676140200-1676152800@complexe-stromboli.com
SUMMARY:REPAS + SOIRÉE FLASHBACK ANNÉES 80'S
DESCRIPTION:Elles sont de retour ! Vous avez été plus de 600 le 12 novembre dernier à danser sur le dancefloor du Stromboli\, c’est pourquoi\, nous vous proposer de vous retrouver à nouveau sur le son des années 80 mixé par notre DJ Jacky Bernardet. Alors n’hésitez plus\, ce soir\, au Stromboli\, évènement ! C’est soirée disco ! \nCommencez également la soirée avec un bon repas dans notre nouveau restaurant (ex-salle Karaoké) \n\nAU MENU \nChoucroute + Bière (25cl.) ou vin (1 verre) + Tarte aux pommes\n \n19€/ pers. (le repas) + 12€/pers. (pour la soirée) \nSOIT 31€/PERS tout compris ! \n\n 
URL:https://complexe-stromboli.com/mon-evenement/flashback-annees-80s-2/
LOCATION:chabris\, Le Port\, PARPEÇAY\, 36210\, France
CATEGORIES:Soirées à thème
ATTACH;FMTTYPE=image/jpeg:https://complexe-stromboli.com/stromboli/wp-content/uploads/2022/11/022022_stromboli_flashback80_BDweb.jpg
END:VEVENT
BEGIN:VEVENT
DTSTART;TZID=Europe/Paris:20230211T223000
DTEND;TZID=Europe/Paris:20230212T050000
DTSTAMP:20260422T154307
CREATED:20221121T185604Z
LAST-MODIFIED:20230211T085515Z
UID:3745-1676154600-1676178000@complexe-stromboli.com
SUMMARY:FLASHBACK ANNÉES 80'S
DESCRIPTION:Elles sont de retour ! Vous avez été plus de 600 le 12 novembre dernier à danser sur le dancefloor du Stromboli\, c’est pourquoi\, nous vous proposer de vous retrouver à nouveau sur le son des années 80 mixé par notre DJ Jacky Bernardet. Alors n’hésitez plus\, ce soir\, au Stromboli\, évènement ! C’est soirée disco !
URL:https://complexe-stromboli.com/mon-evenement/flashback-annees-80s/
LOCATION:chabris\, Le Port\, PARPEÇAY\, 36210\, France
CATEGORIES:Soirées à thème
ATTACH;FMTTYPE=image/jpeg:https://complexe-stromboli.com/stromboli/wp-content/uploads/2022/11/022022_stromboli_flashback80_BDweb.jpg
END:VEVENT
END:VCALENDAR