BEGIN:VCALENDAR
VERSION:2.0
PRODID:-//Le Stromboli - ECPv6.3.1//NONSGML v1.0//EN
CALSCALE:GREGORIAN
METHOD:PUBLISH
X-ORIGINAL-URL:https://complexe-stromboli.com
X-WR-CALDESC:évènements pour Le Stromboli
REFRESH-INTERVAL;VALUE=DURATION:PT1H
X-Robots-Tag:noindex
X-PUBLISHED-TTL:PT1H
BEGIN:VTIMEZONE
TZID:UTC
BEGIN:STANDARD
TZOFFSETFROM:+0000
TZOFFSETTO:+0000
TZNAME:UTC
DTSTART:20230101T000000
END:STANDARD
END:VTIMEZONE
BEGIN:VEVENT
DTSTART;TZID=UTC:20230415T200000
DTEND;TZID=UTC:20230415T230000
DTSTAMP:20260423T012547
CREATED:20230329T194423Z
LAST-MODIFIED:20230415T100937Z
UID:5220-1681588800-1681599600@complexe-stromboli.com
SUMMARY:RESTAURANT SEUL // 90'S 2000 BY DJ FOU
DESCRIPTION:Envie de partager un repas avant notre soirée CARRÉMENT TUBES 90’S / 2000\, mixé par DJ FOU ? Réservez votre repas ici !\nATTENTION : Ce prix billet correspond uniquement à 1 repas le 15 avril 2023\, il ne permet pas l’entrée à la soirée ensuite. Pour réserver votre entrée à la soirée\, nous vous invitons à ajouter les billets soirée seule à votre commande. \n  \nHoraires de 20h à 23h \nAU MENU\nFaux filet avec frites 🍟\n2 boules de glaces / chantilly en dessert 😛\nTarifs repas : 19 € / personnes
URL:https://complexe-stromboli.com/mon-evenement/restaurant-seul-90s-2000-by-dj-fou/
LOCATION:chabris\, Le Port\, PARPEÇAY\, 36210\, France
CATEGORIES:Soirées à thème
ATTACH;FMTTYPE=image/jpeg:https://complexe-stromboli.com/stromboli/wp-content/uploads/2023/03/042022_stromboli_djfou_resto.jpg
END:VEVENT
BEGIN:VEVENT
DTSTART;TZID=UTC:20230415T230000
DTEND;TZID=UTC:20230416T050000
DTSTAMP:20260423T012547
CREATED:20230217T144225Z
LAST-MODIFIED:20230415T100824Z
UID:4940-1681599600-1681621200@complexe-stromboli.com
SUMMARY:CARRÉMENT TUBES 90'S / 2000 BY DJ FOU
DESCRIPTION:Revivez les meilleurs sons des années 90’s et 2000 durant notre soirée CARRÉMENT TUBES 90’S / 2000\, mixé par le légendaire DJ FOU ! Une chose est sure\, le 15 avril prochain\, on met le Waï au Stromboli !
URL:https://complexe-stromboli.com/mon-evenement/carrement-tubes-90s-2000-by-dj-fou/
LOCATION:chabris\, Le Port\, PARPEÇAY\, 36210\, France
CATEGORIES:Soirées à thème
ATTACH;FMTTYPE=image/jpeg:https://complexe-stromboli.com/stromboli/wp-content/uploads/2023/02/042022_stromboli_djfou_BD.jpg
END:VEVENT
END:VCALENDAR