BEGIN:VCALENDAR
VERSION:2.0
PRODID:-//Le Stromboli - ECPv6.3.1//NONSGML v1.0//EN
CALSCALE:GREGORIAN
METHOD:PUBLISH
X-ORIGINAL-URL:https://complexe-stromboli.com
X-WR-CALDESC:évènements pour Le Stromboli
REFRESH-INTERVAL;VALUE=DURATION:PT1H
X-Robots-Tag:noindex
X-PUBLISHED-TTL:PT1H
BEGIN:VTIMEZONE
TZID:UTC
BEGIN:STANDARD
TZOFFSETFROM:+0000
TZOFFSETTO:+0000
TZNAME:UTC
DTSTART:20230101T000000
END:STANDARD
END:VTIMEZONE
BEGIN:VEVENT
DTSTART;TZID=UTC:20230311T230000
DTEND;TZID=UTC:20230312T050000
DTSTAMP:20260423T012422
CREATED:20221109T170637Z
LAST-MODIFIED:20230308T191119Z
UID:3301-1678575600-1678597200@complexe-stromboli.com
SUMMARY:KEEN'V en Showcase au Stromboli
DESCRIPTION:Voix charisme et énergie\, le cocktail détonnant pour une soirée d’exception ! Venez rencontrer KEEN’V en showcase au Stromboli le 11 mars 2023. Warm’Up assuré par DJ FLORUM.
URL:https://complexe-stromboli.com/mon-evenement/keenv-en-showcase-au-stromboli/
LOCATION:chabris\, Le Port\, PARPEÇAY\, 36210\, France
CATEGORIES:Soirées à thème
ATTACH;FMTTYPE=image/jpeg:https://complexe-stromboli.com/stromboli/wp-content/uploads/2022/11/032022_stromboli_keenv_preview-scaled.jpg
END:VEVENT
END:VCALENDAR