BEGIN:VCALENDAR
VERSION:2.0
PRODID:-//Le Stromboli - ECPv6.3.1//NONSGML v1.0//EN
CALSCALE:GREGORIAN
METHOD:PUBLISH
X-ORIGINAL-URL:https://complexe-stromboli.com
X-WR-CALDESC:évènements pour Le Stromboli
REFRESH-INTERVAL;VALUE=DURATION:PT1H
X-Robots-Tag:noindex
X-PUBLISHED-TTL:PT1H
BEGIN:VTIMEZONE
TZID:Europe/Paris
BEGIN:DAYLIGHT
TZOFFSETFROM:+0100
TZOFFSETTO:+0200
TZNAME:CEST
DTSTART:20220327T010000
END:DAYLIGHT
BEGIN:STANDARD
TZOFFSETFROM:+0200
TZOFFSETTO:+0100
TZNAME:CET
DTSTART:20221030T010000
END:STANDARD
TZID:UTC
BEGIN:STANDARD
TZOFFSETFROM:+0000
TZOFFSETTO:+0000
TZNAME:UTC
DTSTART:20220101T000000
END:STANDARD
END:VTIMEZONE
BEGIN:VEVENT
DTSTART;TZID=Europe/Paris:20221231T183000
DTEND;TZID=Europe/Paris:20221231T220000
DTSTAMP:20260423T042101
CREATED:20221117T194452Z
LAST-MODIFIED:20221231T152716Z
UID:3691-1672511400-1672524000@complexe-stromboli.com
SUMMARY:NOUVEL AN - DÎNER + SOIRÉE
DESCRIPTION:L’année se termine et quoi de mieux que de venir faire la fête au Stromboli ? Venez célébrer la nouvelle année sur le dancefloor toute la nuit / Au programme : Feu d’artifice\, goodies\, soupe à l’oignon en fin de soirée… et plein d’autres surprises… \nCETTE RÉSERVATION COMPREND LE DÎNER DE RÉVEILLON +  L’ENTRÉE À LA SOIRÉE \nLE MENU\nCoupe de Champagne ou kir pétillant\net ses amuse-bouches \nCassolette de la mer \nTrou normand \nFilet de chapon rôti à l’étouffé\,\nsauce forestière et son millefeuille de pomme de terre\navec pichet de vin rouge ou rosé \nDuo de fromages et salade \nAssortiment de 4 mignardises\nmini-cœur coulant – mini cannelé\nmini sablé citron – mini dôme \nCafé et digestif \n  \nVous souhaitez la formule  SOIRÉE SEULE ? —> CLIQUEZ ICI
URL:https://complexe-stromboli.com/mon-evenement/nouvel-an-diner-soiree/
LOCATION:chabris\, Le Port\, PARPEÇAY\, 36210\, France
CATEGORIES:Soirées à thème
ATTACH;FMTTYPE=image/jpeg:https://complexe-stromboli.com/stromboli/wp-content/uploads/2022/10/31122022_stromboli_31decembre_repas_WEB-scaled.jpg
END:VEVENT
BEGIN:VEVENT
DTSTART;TZID=UTC:20221231T233000
DTEND;TZID=UTC:20230101T060000
DTSTAMP:20260423T042101
CREATED:20221006T092650Z
LAST-MODIFIED:20221231T152643Z
UID:2984-1672529400-1672552800@complexe-stromboli.com
SUMMARY:NOUVEL AN - SOIRÉE SEULE
DESCRIPTION:L’année se termine et quoi de mieux que de venir faire la fête au Stromboli ? Venez célébrer la nouvelle année sur le dancefloor toute la nuit / Au programme : Feu d’artifice\, goodies\, soupe à l’oignon en fin de soirée… et plein d’autres surprises… \nCETTE RÉSERVATION COMPREND UNIQUEMENT L’ENTRÉE À LA SOIRÉE SANS LE REPAS \nVous souhaitez la formule DÎNER DE RÉVEILLON + SOIRÉE ? —> CLIQUEZ ICI
URL:https://complexe-stromboli.com/mon-evenement/2023-la-soiree-du-nouvel-an/
LOCATION:chabris\, Le Port\, PARPEÇAY\, 36210\, France
CATEGORIES:Soirées à thème
ATTACH;FMTTYPE=image/jpeg:https://complexe-stromboli.com/stromboli/wp-content/uploads/2022/10/31122022_stromboli_31decembre_repas_WEB-scaled.jpg
END:VEVENT
END:VCALENDAR